BEGIN:VCALENDAR
PRODID:-//www.undertheradar.co.nz//NONSGML Undertheradar//EN
VERSION:2.0
BEGIN:VEVENT
DESCRIPTION:Sunfish, Aortic, Arsenic - Big Fan, Auckland
UID:1190175379-102134@undertheradar.co.nz
DTSTAMP:20260430T190000Z
DTSTART:20260430T190000
DTEND:20260430T190059
SUMMARY:Sunfish, Aortic, Arsenic
LOCATION:Big Fan, Auckland
URL:http://www.undertheradar.co.nz/gig/102134/gig.utr
END:VEVENT
END:VCALENDAR

