BEGIN:VCALENDAR
PRODID:-//www.undertheradar.co.nz//NONSGML Undertheradar//EN
VERSION:2.0
BEGIN:VEVENT
DESCRIPTION:Broderbeats Presents Intuition Vol. 2 - San Fran, Wellington
UID:1190175379-102135@undertheradar.co.nz
DTSTAMP:20260509T210000Z
DTSTART:20260509T210000
DTEND:20260509T210059
SUMMARY:Broderbeats Presents Intuition Vol. 2
LOCATION:San Fran, Wellington
URL:http://www.undertheradar.co.nz/gig/102135/gig.utr
END:VEVENT
END:VCALENDAR

