BEGIN:VCALENDAR
PRODID:-//www.undertheradar.co.nz//NONSGML Undertheradar//EN
VERSION:2.0
BEGIN:VEVENT
DESCRIPTION:Plasmaphonic Future Orchestra - Audio Foundation, Auckland
UID:1190175379-102136@undertheradar.co.nz
DTSTAMP:20260509T194500Z
DTSTART:20260509T194500
DTEND:20260509T194559
SUMMARY:Plasmaphonic Future Orchestra
LOCATION:Audio Foundation, Auckland
URL:http://www.undertheradar.co.nz/gig/102136/gig.utr
END:VEVENT
END:VCALENDAR

