BEGIN:VCALENDAR
PRODID:-//www.undertheradar.co.nz//NONSGML Undertheradar//EN
VERSION:2.0
BEGIN:VEVENT
DESCRIPTION:The Return Of Heavy Step — Funcrushers Vol. 4 BornReady - SonSk8 Indoor Skatepark, Auckland
UID:1190175379-102137@undertheradar.co.nz
DTSTAMP:20260425T170000Z
DTSTART:20260425T170000
DTEND:20260425T170059
SUMMARY:The Return Of Heavy Step — Funcrushers Vol. 4 BornReady
LOCATION:SonSk8 Indoor Skatepark, Auckland
URL:http://www.undertheradar.co.nz/gig/102137/gig.utr
END:VEVENT
END:VCALENDAR

