BEGIN:VCALENDAR
PRODID:-//www.undertheradar.co.nz//NONSGML Undertheradar//EN
VERSION:2.0
BEGIN:VEVENT
DESCRIPTION:Rhombus Sound System - The Mayfair, New Plymouth
UID:1190175379-102138@undertheradar.co.nz
DTSTAMP:20260627T193000Z
DTSTART:20260627T193000
DTEND:20260627T193059
SUMMARY:Rhombus Sound System
LOCATION:The Mayfair, New Plymouth
URL:http://www.undertheradar.co.nz/gig/102138/gig.utr
END:VEVENT
END:VCALENDAR

