BEGIN:VCALENDAR
PRODID:-//www.undertheradar.co.nz//NONSGML Undertheradar//EN
VERSION:2.0
BEGIN:VEVENT
DESCRIPTION:An Evening With Shayne Carter: Life In One Chord - TSB Showplace, New Plymouth
UID:1190175379-102140@undertheradar.co.nz
DTSTAMP:20260620T200000Z
DTSTART:20260620T200000
DTEND:20260620T200059
SUMMARY:An Evening With Shayne Carter: Life In One Chord
LOCATION:TSB Showplace, New Plymouth
URL:http://www.undertheradar.co.nz/gig/102140/gig.utr
END:VEVENT
END:VCALENDAR

