BEGIN:VCALENDAR
PRODID:-//www.undertheradar.co.nz//NONSGML Undertheradar//EN
VERSION:2.0
BEGIN:VEVENT
DESCRIPTION:Youth Stage 2026 - Massey University - Block 1, Wellington
UID:1190175379-102141@undertheradar.co.nz
DTSTAMP:20260501T183000Z
DTSTART:20260501T183000
DTEND:20260501T183059
SUMMARY:Youth Stage 2026
LOCATION:Massey University - Block 1, Wellington
URL:http://www.undertheradar.co.nz/gig/102141/gig.utr
END:VEVENT
END:VCALENDAR

