BEGIN:VCALENDAR
PRODID:-//www.undertheradar.co.nz//NONSGML Undertheradar//EN
VERSION:2.0
BEGIN:VEVENT
DESCRIPTION:Azadio Live At The Dog's Bone - The Dog's Bone, Nelson
UID:1190175379-102142@undertheradar.co.nz
DTSTAMP:20260425T160000Z
DTSTART:20260425T160000
DTEND:20260425T160059
SUMMARY:Azadio Live At The Dog's Bone
LOCATION:The Dog's Bone, Nelson
URL:http://www.undertheradar.co.nz/gig/102142/gig.utr
END:VEVENT
END:VCALENDAR

