BEGIN:VCALENDAR
PRODID:-//www.undertheradar.co.nz//NONSGML Undertheradar//EN
VERSION:2.0
BEGIN:VEVENT
DESCRIPTION:Aphrodite - The Mothership, Auckland
UID:1190175379-102143@undertheradar.co.nz
DTSTAMP:20260502T220000Z
DTSTART:20260502T220000
DTEND:20260502T220059
SUMMARY:Aphrodite
LOCATION:The Mothership, Auckland
URL:http://www.undertheradar.co.nz/gig/102143/gig.utr
END:VEVENT
END:VCALENDAR

