BEGIN:VCALENDAR
PRODID:-//www.undertheradar.co.nz//NONSGML Undertheradar//EN
VERSION:2.0
BEGIN:VEVENT
DESCRIPTION:The Upbeats With Special Guest Inmotion - The Mothership, Auckland
UID:1190175379-102144@undertheradar.co.nz
DTSTAMP:20260516T220000Z
DTSTART:20260516T220000
DTEND:20260516T220059
SUMMARY:The Upbeats With Special Guest Inmotion
LOCATION:The Mothership, Auckland
URL:http://www.undertheradar.co.nz/gig/102144/gig.utr
END:VEVENT
END:VCALENDAR

