BEGIN:VCALENDAR
PRODID:-//www.undertheradar.co.nz//NONSGML Undertheradar//EN
VERSION:2.0
BEGIN:VEVENT
DESCRIPTION:Samba Independente - Rogue and Vagabond, Wellington
UID:1190175379-102145@undertheradar.co.nz
DTSTAMP:20260509T200000Z
DTSTART:20260509T200000
DTEND:20260509T200059
SUMMARY:Samba Independente
LOCATION:Rogue and Vagabond, Wellington
URL:http://www.undertheradar.co.nz/gig/102145/gig.utr
END:VEVENT
END:VCALENDAR

