BEGIN:VCALENDAR
PRODID:-//www.undertheradar.co.nz//NONSGML Undertheradar//EN
VERSION:2.0
BEGIN:VEVENT
DESCRIPTION:Groove-liner 003 Ft. Chiccoreli - Ocean Eagle, Auckland
UID:1190175379-102147@undertheradar.co.nz
DTSTAMP:20260523T160000Z
DTSTART:20260523T160000
DTEND:20260523T160059
SUMMARY:Groove-liner 003 Ft. Chiccoreli
LOCATION:Ocean Eagle, Auckland
URL:http://www.undertheradar.co.nz/gig/102147/gig.utr
END:VEVENT
END:VCALENDAR

