BEGIN:VCALENDAR
PRODID:-//www.undertheradar.co.nz//NONSGML Undertheradar//EN
VERSION:2.0
BEGIN:VEVENT
DESCRIPTION:Reload Culture Presents Headland - Double Whammy, Auckland
UID:1190175379-102148@undertheradar.co.nz
DTSTAMP:20260613T200000Z
DTSTART:20260613T200000
DTEND:20260613T200059
SUMMARY:Reload Culture Presents Headland
LOCATION:Double Whammy, Auckland
URL:http://www.undertheradar.co.nz/gig/102148/gig.utr
END:VEVENT
END:VCALENDAR

