BEGIN:VCALENDAR
PRODID:-//www.undertheradar.co.nz//NONSGML Undertheradar//EN
VERSION:2.0
BEGIN:VEVENT
DESCRIPTION:Sect: Valerie Ace w/ 75 Arrowheads - Whammy Bar, Auckland
UID:1190175379-102149@undertheradar.co.nz
DTSTAMP:20260531T210000Z
DTSTART:20260531T210000
DTEND:20260531T210059
SUMMARY:Sect: Valerie Ace w/ 75 Arrowheads
LOCATION:Whammy Bar, Auckland
URL:http://www.undertheradar.co.nz/gig/102149/gig.utr
END:VEVENT
END:VCALENDAR

