BEGIN:VCALENDAR
PRODID:-//www.undertheradar.co.nz//NONSGML Undertheradar//EN
VERSION:2.0
BEGIN:VEVENT
DESCRIPTION:Kelvin 373 (UK) [Born On Road] - Meow, Wellington
UID:1190175379-102150@undertheradar.co.nz
DTSTAMP:20260516T220000Z
DTSTART:20260516T220000
DTEND:20260516T220059
SUMMARY:Kelvin 373 (UK) [Born On Road]
LOCATION:Meow, Wellington
URL:http://www.undertheradar.co.nz/gig/102150/gig.utr
END:VEVENT
END:VCALENDAR

