BEGIN:VCALENDAR
PRODID:-//www.undertheradar.co.nz//NONSGML Undertheradar//EN
VERSION:2.0
BEGIN:VEVENT
DESCRIPTION:Melodownz - Bron Album Release Tour - Meow, Wellington
UID:1190175379-102151@undertheradar.co.nz
DTSTAMP:20260508T193000Z
DTSTART:20260508T193000
DTEND:20260508T193059
SUMMARY:Melodownz - Bron Album Release Tour
LOCATION:Meow, Wellington
URL:http://www.undertheradar.co.nz/gig/102151/gig.utr
END:VEVENT
END:VCALENDAR

