BEGIN:VCALENDAR
PRODID:-//www.undertheradar.co.nz//NONSGML Undertheradar//EN
VERSION:2.0
BEGIN:VEVENT
DESCRIPTION:Delaney Davidson - Baby Heavyweight Album Tour - Atea, Whakatane
UID:1190175379-102152@undertheradar.co.nz
DTSTAMP:20260802T190000Z
DTSTART:20260802T190000
DTEND:20260802T190059
SUMMARY:Delaney Davidson - Baby Heavyweight Album Tour
LOCATION:Atea, Whakatane
URL:http://www.undertheradar.co.nz/gig/102152/gig.utr
END:VEVENT
END:VCALENDAR

