BEGIN:VCALENDAR
PRODID:-//www.undertheradar.co.nz//NONSGML Undertheradar//EN
VERSION:2.0
BEGIN:VEVENT
DESCRIPTION:Michal Martyniuk Trio - Ato Jazz Club, Auckland
UID:1190175379-102153@undertheradar.co.nz
DTSTAMP:20260502T193000Z
DTSTART:20260502T193000
DTEND:20260502T193059
SUMMARY:Michal Martyniuk Trio
LOCATION:Ato Jazz Club, Auckland
URL:http://www.undertheradar.co.nz/gig/102153/gig.utr
END:VEVENT
END:VCALENDAR

