BEGIN:VCALENDAR
PRODID:-//www.undertheradar.co.nz//NONSGML Undertheradar//EN
VERSION:2.0
BEGIN:VEVENT
DESCRIPTION:Skip The Light: Sound, Pop And Noise Festival - Dom Polski, Wellington
UID:1190175379-102154@undertheradar.co.nz
DTSTAMP:20260523T173000Z
DTSTART:20260523T173000
DTEND:20260523T173059
SUMMARY:Skip The Light: Sound, Pop And Noise Festival
LOCATION:Dom Polski, Wellington
URL:http://www.undertheradar.co.nz/gig/102154/gig.utr
END:VEVENT
END:VCALENDAR

