BEGIN:VCALENDAR
PRODID:-//www.undertheradar.co.nz//NONSGML Undertheradar//EN
VERSION:2.0
BEGIN:VEVENT
DESCRIPTION:Back To The Hillside w/ Sprawl And Chlorine - NiceGoblins HQ, Auckland
UID:1190175379-102155@undertheradar.co.nz
DTSTAMP:20260502T200000Z
DTSTART:20260502T200000
DTEND:20260502T200059
SUMMARY:Back To The Hillside w/ Sprawl And Chlorine
LOCATION:NiceGoblins HQ, Auckland
URL:http://www.undertheradar.co.nz/gig/102155/gig.utr
END:VEVENT
END:VCALENDAR

