BEGIN:VCALENDAR
PRODID:-//www.undertheradar.co.nz//NONSGML Undertheradar//EN
VERSION:2.0
BEGIN:VEVENT
DESCRIPTION:Double Haven // May 30th: Valerie Ace (DE) // May 31st: Carrier (UK) - Galaxy Bar, Christchurch
UID:1190175379-102156@undertheradar.co.nz
DTSTAMP:20260530T210000Z
DTSTART:20260530T210000
DTEND:20260530T210059
SUMMARY:Double Haven // May 30th: Valerie Ace (DE) // May 31st: Carrier (UK)
LOCATION:Galaxy Bar, Christchurch
URL:http://www.undertheradar.co.nz/gig/102156/gig.utr
END:VEVENT
END:VCALENDAR

