BEGIN:VCALENDAR
PRODID:-//www.undertheradar.co.nz//NONSGML Undertheradar//EN
VERSION:2.0
BEGIN:VEVENT
DESCRIPTION:Saul Williams Meets Carlos Niño | Auckland - The Tuning Fork, Auckland
UID:1190175379-102157@undertheradar.co.nz
DTSTAMP:20260609T190000Z
DTSTART:20260609T190000
DTEND:20260609T190059
SUMMARY:Saul Williams Meets Carlos Niño | Auckland
LOCATION:The Tuning Fork, Auckland
URL:http://www.undertheradar.co.nz/gig/102157/gig.utr
END:VEVENT
END:VCALENDAR

