BEGIN:VCALENDAR
PRODID:-//www.undertheradar.co.nz//NONSGML Undertheradar//EN
VERSION:2.0
BEGIN:VEVENT
DESCRIPTION:Ruckus Trio - Freida Margolis, Auckland
UID:1190175379-102161@undertheradar.co.nz
DTSTAMP:20260423T200000Z
DTSTART:20260423T200000
DTEND:20260423T200059
SUMMARY:Ruckus Trio
LOCATION:Freida Margolis, Auckland
URL:http://www.undertheradar.co.nz/gig/102161/gig.utr
END:VEVENT
END:VCALENDAR

