BEGIN:VCALENDAR
PRODID:-//www.undertheradar.co.nz//NONSGML Undertheradar//EN
VERSION:2.0
BEGIN:VEVENT
DESCRIPTION:Noah Nite - Get What I'm Given Single Release Tour - Last Place, Hamilton
UID:1190175379-102163@undertheradar.co.nz
DTSTAMP:20260508T203000Z
DTSTART:20260508T203000
DTEND:20260508T203059
SUMMARY:Noah Nite - Get What I'm Given Single Release Tour
LOCATION:Last Place, Hamilton
URL:http://www.undertheradar.co.nz/gig/102163/gig.utr
END:VEVENT
END:VCALENDAR

