BEGIN:VCALENDAR
PRODID:-//www.undertheradar.co.nz//NONSGML Undertheradar//EN
VERSION:2.0
BEGIN:VEVENT
DESCRIPTION:The Lighthouse Trio - The Library Bar, Wellington
UID:1190175379-102164@undertheradar.co.nz
DTSTAMP:20260423T200000Z
DTSTART:20260423T200000
DTEND:20260423T200059
SUMMARY:The Lighthouse Trio
LOCATION:The Library Bar, Wellington
URL:http://www.undertheradar.co.nz/gig/102164/gig.utr
END:VEVENT
END:VCALENDAR

