BEGIN:VCALENDAR
PRODID:-//www.undertheradar.co.nz//NONSGML Undertheradar//EN
VERSION:2.0
BEGIN:VEVENT
DESCRIPTION:Erykah Badu Tribute - Space Academy, Christchurch
UID:1190175379-102165@undertheradar.co.nz
DTSTAMP:20260617T190000Z
DTSTART:20260617T190000
DTEND:20260617T190059
SUMMARY:Erykah Badu Tribute
LOCATION:Space Academy, Christchurch
URL:http://www.undertheradar.co.nz/gig/102165/gig.utr
END:VEVENT
END:VCALENDAR

