BEGIN:VCALENDAR
PRODID:-//www.undertheradar.co.nz//NONSGML Undertheradar//EN
VERSION:2.0
BEGIN:VEVENT
DESCRIPTION:Two_YOU Club Pre Party - Cassette Nine, Auckland
UID:1190175379-102166@undertheradar.co.nz
DTSTAMP:20260501T190000Z
DTSTART:20260501T190000
DTEND:20260501T190059
SUMMARY:Two_YOU Club Pre Party
LOCATION:Cassette Nine, Auckland
URL:http://www.undertheradar.co.nz/gig/102166/gig.utr
END:VEVENT
END:VCALENDAR

