BEGIN:VCALENDAR
PRODID:-//www.undertheradar.co.nz//NONSGML Undertheradar//EN
VERSION:2.0
BEGIN:VEVENT
DESCRIPTION:Stone Temple Pilots / Radiohead / Weezer Tribute  - Christchurch - Loons, Lyttelton
UID:1190175379-102167@undertheradar.co.nz
DTSTAMP:20260626T190000Z
DTSTART:20260626T190000
DTEND:20260626T190059
SUMMARY:Stone Temple Pilots / Radiohead / Weezer Tribute  - Christchurch
LOCATION:Loons, Lyttelton
URL:http://www.undertheradar.co.nz/gig/102167/gig.utr
END:VEVENT
END:VCALENDAR

