BEGIN:VCALENDAR
PRODID:-//www.undertheradar.co.nz//NONSGML Undertheradar//EN
VERSION:2.0
BEGIN:VEVENT
DESCRIPTION:CyberManic, Spicy Vikings, Tam Duugi - Embankment Tavern, Christchurch
UID:1190175379-102169@undertheradar.co.nz
DTSTAMP:20260502T200000Z
DTSTART:20260502T200000
DTEND:20260502T200059
SUMMARY:CyberManic, Spicy Vikings, Tam Duugi
LOCATION:Embankment Tavern, Christchurch
URL:http://www.undertheradar.co.nz/gig/102169/gig.utr
END:VEVENT
END:VCALENDAR

