BEGIN:VCALENDAR
PRODID:-//www.undertheradar.co.nz//NONSGML Undertheradar//EN
VERSION:2.0
BEGIN:VEVENT
DESCRIPTION:Radio One 91fm Presents: Sivle Talk, U-No Juno, And Rheumy - Pearl Diver, Dunedin
UID:1190175379-102170@undertheradar.co.nz
DTSTAMP:20260426T170000Z
DTSTART:20260426T170000
DTEND:20260426T170059
SUMMARY:Radio One 91fm Presents: Sivle Talk, U-No Juno, And Rheumy
LOCATION:Pearl Diver, Dunedin
URL:http://www.undertheradar.co.nz/gig/102170/gig.utr
END:VEVENT
END:VCALENDAR

