BEGIN:VCALENDAR
PRODID:-//www.undertheradar.co.nz//NONSGML Undertheradar//EN
VERSION:2.0
BEGIN:VEVENT
DESCRIPTION:The Trusts Live! Nz Music Month Pop-up - Corban Estate Arts Centre, Auckland
UID:1190175379-102172@undertheradar.co.nz
DTSTAMP:20260502T190000Z
DTSTART:20260502T190000
DTEND:20260502T190059
SUMMARY:The Trusts Live! Nz Music Month Pop-up
LOCATION:Corban Estate Arts Centre, Auckland
URL:http://www.undertheradar.co.nz/gig/102172/gig.utr
END:VEVENT
END:VCALENDAR

