BEGIN:VCALENDAR
PRODID:-//www.undertheradar.co.nz//NONSGML Undertheradar//EN
VERSION:2.0
BEGIN:VEVENT
DESCRIPTION:The Social Climbers + Dj Alex Baker - 605 Morningside, Auckland
UID:1190175379-102173@undertheradar.co.nz
DTSTAMP:20260620T193000Z
DTSTART:20260620T193000
DTEND:20260620T193059
SUMMARY:The Social Climbers + Dj Alex Baker
LOCATION:605 Morningside, Auckland
URL:http://www.undertheradar.co.nz/gig/102173/gig.utr
END:VEVENT
END:VCALENDAR

