BEGIN:VCALENDAR
PRODID:-//www.undertheradar.co.nz//NONSGML Undertheradar//EN
VERSION:2.0
BEGIN:VEVENT
DESCRIPTION:Musical Punch Over Lunch Concert Series - Old St Paul's, Wellington
UID:1190175379-102174@undertheradar.co.nz
DTSTAMP:20260507T121500Z
DTSTART:20260507T121500
DTEND:20260507T121559
SUMMARY:Musical Punch Over Lunch Concert Series
LOCATION:Old St Paul's, Wellington
URL:http://www.undertheradar.co.nz/gig/102174/gig.utr
END:VEVENT
END:VCALENDAR

