BEGIN:VCALENDAR
PRODID:-//www.undertheradar.co.nz//NONSGML Undertheradar//EN
VERSION:2.0
BEGIN:VEVENT
DESCRIPTION:William Crighton 'Colonial Drift' Album Tour - San Fran, Wellington
UID:1190175379-102178@undertheradar.co.nz
DTSTAMP:20260520T190000Z
DTSTART:20260520T190000
DTEND:20260520T190059
SUMMARY:William Crighton 'Colonial Drift' Album Tour
LOCATION:San Fran, Wellington
URL:http://www.undertheradar.co.nz/gig/102178/gig.utr
END:VEVENT
END:VCALENDAR

