BEGIN:VCALENDAR
PRODID:-//www.undertheradar.co.nz//NONSGML Undertheradar//EN
VERSION:2.0
BEGIN:VEVENT
DESCRIPTION:William Crighton 'Colonial Drift' Album Tour - The Tuning Fork, Auckland
UID:1190175379-102179@undertheradar.co.nz
DTSTAMP:20260521T200000Z
DTSTART:20260521T200000
DTEND:20260521T200059
SUMMARY:William Crighton 'Colonial Drift' Album Tour
LOCATION:The Tuning Fork, Auckland
URL:http://www.undertheradar.co.nz/gig/102179/gig.utr
END:VEVENT
END:VCALENDAR

