BEGIN:VCALENDAR
PRODID:-//www.undertheradar.co.nz//NONSGML Undertheradar//EN
VERSION:2.0
BEGIN:VEVENT
DESCRIPTION:Elliot And Vincent + Emmanuelle (live) - Whammy Bar, Auckland
UID:1190175379-102180@undertheradar.co.nz
DTSTAMP:20260501T200000Z
DTSTART:20260501T200000
DTEND:20260501T200059
SUMMARY:Elliot And Vincent + Emmanuelle (live)
LOCATION:Whammy Bar, Auckland
URL:http://www.undertheradar.co.nz/gig/102180/gig.utr
END:VEVENT
END:VCALENDAR

