BEGIN:VCALENDAR
PRODID:-//www.undertheradar.co.nz//NONSGML Undertheradar//EN
VERSION:2.0
BEGIN:VEVENT
DESCRIPTION:Melodownz - Bron Album Release Tour - Loons, Lyttelton
UID:1190175379-102183@undertheradar.co.nz
DTSTAMP:20260515T193000Z
DTSTART:20260515T193000
DTEND:20260515T193059
SUMMARY:Melodownz - Bron Album Release Tour
LOCATION:Loons, Lyttelton
URL:http://www.undertheradar.co.nz/gig/102183/gig.utr
END:VEVENT
END:VCALENDAR

