BEGIN:VCALENDAR
PRODID:-//www.undertheradar.co.nz//NONSGML Undertheradar//EN
VERSION:2.0
BEGIN:VEVENT
DESCRIPTION:Ship Wrek (USA) - The Grand, Wellington
UID:1190175379-102185@undertheradar.co.nz
DTSTAMP:20260530T220000Z
DTSTART:20260530T220000
DTEND:20260530T220059
SUMMARY:Ship Wrek (USA)
LOCATION:The Grand, Wellington
URL:http://www.undertheradar.co.nz/gig/102185/gig.utr
END:VEVENT
END:VCALENDAR

