BEGIN:VCALENDAR
PRODID:-//www.undertheradar.co.nz//NONSGML Undertheradar//EN
VERSION:2.0
BEGIN:VEVENT
DESCRIPTION:Fortunes Underground (private Jam Session) - Afters., Wellington
UID:1190175379-102186@undertheradar.co.nz
DTSTAMP:20260426T200000Z
DTSTART:20260426T200000
DTEND:20260426T200059
SUMMARY:Fortunes Underground (private Jam Session)
LOCATION:Afters., Wellington
URL:http://www.undertheradar.co.nz/gig/102186/gig.utr
END:VEVENT
END:VCALENDAR

