BEGIN:VCALENDAR
PRODID:-//www.undertheradar.co.nz//NONSGML Undertheradar//EN
VERSION:2.0
BEGIN:VEVENT
DESCRIPTION:Cuba Street Tavern's First Birthday Bash - Cuba St Tavern, Wellington
UID:1190175379-102188@undertheradar.co.nz
DTSTAMP:20260509T170000Z
DTSTART:20260509T170000
DTEND:20260509T170059
SUMMARY:Cuba Street Tavern's First Birthday Bash
LOCATION:Cuba St Tavern, Wellington
URL:http://www.undertheradar.co.nz/gig/102188/gig.utr
END:VEVENT
END:VCALENDAR

