BEGIN:VCALENDAR
PRODID:-//www.undertheradar.co.nz//NONSGML Undertheradar//EN
VERSION:2.0
BEGIN:VEVENT
DESCRIPTION:Birthday BBQ At The Tav - Cuba St Tavern, Wellington
UID:1190175379-102190@undertheradar.co.nz
DTSTAMP:20260509T140000Z
DTSTART:20260509T140000
DTEND:20260509T140059
SUMMARY:Birthday BBQ At The Tav
LOCATION:Cuba St Tavern, Wellington
URL:http://www.undertheradar.co.nz/gig/102190/gig.utr
END:VEVENT
END:VCALENDAR

