BEGIN:VCALENDAR
PRODID:-//www.undertheradar.co.nz//NONSGML Undertheradar//EN
VERSION:2.0
BEGIN:VEVENT
DESCRIPTION:Tooms + Commodore 65 + Heavy Flow - 605 Morningside, Auckland
UID:1190175379-102191@undertheradar.co.nz
DTSTAMP:20260509T200000Z
DTSTART:20260509T200000
DTEND:20260509T200059
SUMMARY:Tooms + Commodore 65 + Heavy Flow
LOCATION:605 Morningside, Auckland
URL:http://www.undertheradar.co.nz/gig/102191/gig.utr
END:VEVENT
END:VCALENDAR

