BEGIN:VCALENDAR
PRODID:-//www.undertheradar.co.nz//NONSGML Undertheradar//EN
VERSION:2.0
BEGIN:VEVENT
DESCRIPTION:Rabbit Island Presents: Cook Ie Cutt Er With The Laurel Canyon Sound. - MOON, Wellington
UID:1190175379-102198@undertheradar.co.nz
DTSTAMP:20260517T200000Z
DTSTART:20260517T200000
DTEND:20260517T200059
SUMMARY:Rabbit Island Presents: Cook Ie Cutt Er With The Laurel Canyon Sound.
LOCATION:MOON, Wellington
URL:http://www.undertheradar.co.nz/gig/102198/gig.utr
END:VEVENT
END:VCALENDAR

