BEGIN:VCALENDAR
PRODID:-//www.undertheradar.co.nz//NONSGML Undertheradar//EN
VERSION:2.0
BEGIN:VEVENT
DESCRIPTION:Pangaea - Nathan Homestead - Manurewa Arts Centre, Auckland
UID:1190175379-70003@undertheradar.co.nz
DTSTAMP:20200229T183000Z
DTSTART:20200229T183000
DTEND:20200229T183059
SUMMARY:Pangaea
LOCATION:Nathan Homestead - Manurewa Arts Centre, Auckland
URL:http://www.undertheradar.co.nz/gig/70003/gig.utr
END:VEVENT
END:VCALENDAR

