BEGIN:VCALENDAR
PRODID:-//www.undertheradar.co.nz//NONSGML Undertheradar//EN
VERSION:2.0
BEGIN:VEVENT
DESCRIPTION:Ferocious (Direen, Williams, Contag) Album Release - Audio Foundation, Auckland
UID:1190175379-70042@undertheradar.co.nz
DTSTAMP:20200228T200000Z
DTSTART:20200228T200000
DTEND:20200228T200059
SUMMARY:Ferocious (Direen, Williams, Contag) Album Release
LOCATION:Audio Foundation, Auckland
URL:http://www.undertheradar.co.nz/gig/70042/gig.utr
END:VEVENT
END:VCALENDAR

