BEGIN:VCALENDAR
PRODID:-//www.undertheradar.co.nz//NONSGML Undertheradar//EN
VERSION:2.0
BEGIN:VEVENT
DESCRIPTION:Iron Mammoth - darkroom, Christchurch
UID:1190175379-70079@undertheradar.co.nz
DTSTAMP:20200222T200000Z
DTSTART:20200222T200000
DTEND:20200222T200059
SUMMARY:Iron Mammoth
LOCATION:darkroom, Christchurch
URL:http://www.undertheradar.co.nz/gig/70079/gig.utr
END:VEVENT
END:VCALENDAR

