BEGIN:VCALENDAR
PRODID:-//www.undertheradar.co.nz//NONSGML Undertheradar//EN
VERSION:2.0
BEGIN:VEVENT
DESCRIPTION:Stepping Forward - Laundry Cuba Street, Wellington
UID:1190175379-70118@undertheradar.co.nz
DTSTAMP:20200223T170000Z
DTSTART:20200223T170000
DTEND:20200223T170059
SUMMARY:Stepping Forward
LOCATION:Laundry Cuba Street, Wellington
URL:http://www.undertheradar.co.nz/gig/70118/gig.utr
END:VEVENT
END:VCALENDAR

