BEGIN:VCALENDAR
PRODID:-//www.undertheradar.co.nz//NONSGML Undertheradar//EN
VERSION:2.0
BEGIN:VEVENT
DESCRIPTION:Paper Thieves - Cancelled - Rogue and Vagabond, Wellington
UID:1190175379-70194@undertheradar.co.nz
DTSTAMP:20200326T200000Z
DTSTART:20200326T200000
DTEND:20200326T200059
SUMMARY:Paper Thieves - Cancelled
LOCATION:Rogue and Vagabond, Wellington
URL:http://www.undertheradar.co.nz/gig/70194/gig.utr
END:VEVENT
END:VCALENDAR

