BEGIN:VCALENDAR
PRODID:-//www.undertheradar.co.nz//NONSGML Undertheradar//EN
VERSION:2.0
BEGIN:VEVENT
DESCRIPTION:Chiccoreli, Witters, Xpillane + More - Cancelled - AV Club, Auckland
UID:1190175379-70271@undertheradar.co.nz
DTSTAMP:20200403T220000Z
DTSTART:20200403T220000
DTEND:20200403T220059
SUMMARY:Chiccoreli, Witters, Xpillane + More - Cancelled
LOCATION:AV Club, Auckland
URL:http://www.undertheradar.co.nz/gig/70271/gig.utr
END:VEVENT
END:VCALENDAR

