BEGIN:VCALENDAR
PRODID:-//www.undertheradar.co.nz//NONSGML Undertheradar//EN
VERSION:2.0
BEGIN:VEVENT
DESCRIPTION:No Sky, Lucky Boy, bb gurl - The Wine Cellar, Auckland
UID:1190175379-70278@undertheradar.co.nz
DTSTAMP:20200227T200000Z
DTSTART:20200227T200000
DTEND:20200227T200059
SUMMARY:No Sky, Lucky Boy, bb gurl
LOCATION:The Wine Cellar, Auckland
URL:http://www.undertheradar.co.nz/gig/70278/gig.utr
END:VEVENT
END:VCALENDAR

